BEGIN:VCALENDAR
VERSION:2.0
PRODID:-//kulturbanause//kulturbanause.de//DE
CALSCALE:GREGORIAN
BEGIN:VEVENT
DTSTART:20260506T190000
DTEND:20260506T203000
LOCATION:Hermann Ehlers Akademie\, Niemannsweg 78\, Kiel
DTSTAMP:20260424T131915
SUMMARY:HEA/HES Demokratie am Abdriften
URL;VALUE=URI:https://www.hermann-ehlers.de/veranstaltung/demokratie-am-abdriften/
DESCRIPTION:Details zur Veranstaltung: https://www.hermann-ehlers.de/veranstaltung/demokratie-am-abdriften/
UID:20260424T131915-20260506T190000-20260506T203000
END:VEVENT
END:VCALENDAR